BEGIN:VCALENDAR
VERSION:2.0
PRODID:-//Squarespace Inc/Squarespace 6//v6//EN
BEGIN:VEVENT
UID:5951d32db6ac5001f350579e@squarespace.com
DTSTAMP:20170803T000353Z
DTSTART:20170818T090000Z
DTEND:20170818T115900Z
SUMMARY:Paul Madsen live @ The Vic! 
END:VEVENT
END:VCALENDAR
