BEGIN:VCALENDAR
VERSION:2.0
PRODID:-//Squarespace Inc/Squarespace 6//v6//EN
BEGIN:VEVENT
UID:593f5d9c893fc090cfb7ee78@squarespace.com
DTSTAMP:20170724T232025Z
DTSTART:20170812T090000Z
DTEND:20170812T115900Z
SUMMARY:Kon-Tiki @ The Vic Brewbar 
END:VEVENT
END:VCALENDAR
