BEGIN:VCALENDAR
VERSION:2.0
PRODID:-//Squarespace Inc/Squarespace 6//v6//EN
BEGIN:VEVENT
UID:593f28693a041171e033df6a@squarespace.com
DTSTAMP:20170612T235344Z
DTSTART:20170722T090000Z
DTEND:20170722T115900Z
SUMMARY:DJ Quinn Live Saturday @ The Vic
END:VEVENT
END:VCALENDAR
