BEGIN:VCALENDAR
VERSION:2.0
PRODID:-//Squarespace Inc/Squarespace 6//v6//EN
BEGIN:VEVENT
UID:591294aa3e00be45493a027a@squarespace.com
DTSTAMP:20170612T235653Z
DTSTART:20170729T090000Z
DTEND:20170729T115900Z
SUMMARY:FEZ live @ The Vic! 
END:VEVENT
END:VCALENDAR
