BEGIN:VCALENDAR
VERSION:2.0
PRODID:-//Squarespace Inc/Squarespace 6//v6//EN
BEGIN:VEVENT
UID:5941d36f29687fe9d255f05e@squarespace.com
DTSTAMP:20170615T010103Z
DTSTART:20170715T090000Z
DTEND:20170715T115900Z
SUMMARY:Chris Lake live @ The Vic 
END:VEVENT
END:VCALENDAR
