BEGIN:VCALENDAR
VERSION:2.0
PRODID:-//Squarespace Inc/Squarespace 6//v6//EN
BEGIN:VEVENT
UID:591033fbbebafbc604c8e6b5@squarespace.com
DTSTAMP:20170615T010732Z
DTSTART:20170624T090000Z
DTEND:20170624T115900Z
SUMMARY:Jack n The Box - Saturday from 9pm
END:VEVENT
END:VCALENDAR
