BEGIN:VCALENDAR
VERSION:2.0
PRODID:-//Squarespace Inc/Squarespace 6//v6//EN
BEGIN:VEVENT
UID:593f236bbf629a891ee36b19@squarespace.com
DTSTAMP:20170612T234213Z
DTSTART:20170805T090000Z
DTEND:20170805T115900Z
SUMMARY:House of Kramit!! Sat @ The Vic 
END:VEVENT
END:VCALENDAR
