BEGIN:VCALENDAR
VERSION:2.0
PRODID:-//Squarespace Inc/Squarespace 6//v6//EN
BEGIN:VEVENT
UID:59102a5a1e5b6c8e16fb27e8@squarespace.com
DTSTAMP:20170508T083227Z
DTSTART:20170610T090000Z
DTEND:20170610T115900Z
SUMMARY:Boogie Train...... @ The Vic - Saturday 9pm
GEO:-41.274788;173.284126
LOCATION:The Vic Brewbar\, 281 Trafalgar Street\, Nelson\, Nelson\, 7010\, 
 New Zealand
END:VEVENT
END:VCALENDAR
