BEGIN:VCALENDAR
VERSION:2.0
PRODID:-//Squarespace Inc/Squarespace 6//v6//EN
BEGIN:VEVENT
UID:59211c72ebbd1a9074555ce2@squarespace.com
DTSTAMP:20170526T024913Z
DTSTART:20170527T090000Z
DTEND:20170527T115900Z
SUMMARY:Jack & the Box FT Luzza
END:VEVENT
END:VCALENDAR
