BEGIN:VCALENDAR
VERSION:2.0
PRODID:-//Squarespace Inc/Squarespace 6//v6//EN
BEGIN:VEVENT
UID:58b3664eebbd1abb370ce74c@squarespace.com
DTSTAMP:20170612T233753Z
DTSTART:20170506T090000Z
DTEND:20170506T115900Z
SUMMARY:Kramit Live @ The Vic
GEO:-41.274788;173.284126
LOCATION:The Vic Brewbar\, 281 Trafalgar Street\, Nelson\, Nelson\, 7010\, 
 New Zealand
END:VEVENT
END:VCALENDAR
