BEGIN:VCALENDAR
VERSION:2.0
PRODID:-//Squarespace Inc/Squarespace 6//v6//EN
BEGIN:VEVENT
UID:58b35cbdc534a56dc37bfe1a@squarespace.com
DTSTAMP:20170508T080806Z
DTSTART:20170513T090000Z
DTEND:20170513T115900Z
SUMMARY:FEZ - Saturday from 9pm
GEO:-41.274788;173.284126
LOCATION:The Vic Brewbar\, 281 Trafalgar Street\, Nelson\, Nelson\, 7010\, 
 New Zealand
END:VEVENT
END:VCALENDAR
