BEGIN:VCALENDAR
VERSION:2.0
PRODID:-//Squarespace Inc/Squarespace 6//v6//EN
BEGIN:VEVENT
UID:58b3587cbf629ae26dab3ffe@squarespace.com
DTSTAMP:20170226T224609Z
DTSTART:20170325T080000Z
DTEND:20170325T105900Z
SUMMARY:Medicine Women 
GEO:-41.274788;173.284126
LOCATION:The Vic Brewbar\, 281 Trafalgar Street\, Nelson\, Nelson\, 7010\, 
 New Zealand
END:VEVENT
END:VCALENDAR
