BEGIN:VCALENDAR
VERSION:2.0
PRODID:-//Squarespace Inc/Squarespace 6//v6//EN
BEGIN:VEVENT
UID:58b354e9bf629ae26dab066d@squarespace.com
DTSTAMP:20170226T225321Z
DTSTART:20170324T080000Z
DTEND:20170324T105900Z
SUMMARY:Bragg Bro's @ The Vic 
GEO:-41.274788;173.284126
LOCATION:The Vic Brewbar\, 281 Trafalgar Street\, Nelson\, Nelson\, 7010\, 
 New Zealand
END:VEVENT
END:VCALENDAR
