BEGIN:VCALENDAR
VERSION:2.0
PRODID:-//Squarespace Inc/Squarespace 6//v6//EN
BEGIN:VEVENT
UID:58c5dcfd37c581a0d29c0a2d@squarespace.com
DTSTAMP:20170312T234906Z
DTSTART:20170316T220000Z
DTEND:20170316T230000Z
SUMMARY:Paddy's Day @ The Vic 
END:VEVENT
END:VCALENDAR
