BEGIN:VCALENDAR
VERSION:2.0
PRODID:-//Squarespace Inc/Squarespace 6//v6//EN
BEGIN:VEVENT
UID:58b3501e3a04111160d9518a@squarespace.com
DTSTAMP:20170226T221926Z
DTSTART:20170310T080000Z
DTEND:20170310T105900Z
SUMMARY:Gypsy Pickers Live @ The Vic from 9pm
GEO:-41.274788;173.284126
LOCATION:The Vic Brewbar\, 281 Trafalgar Street\, Nelson\, Nelson\, 7010\, 
 New Zealand
END:VEVENT
END:VCALENDAR
