BEGIN:VCALENDAR
VERSION:2.0
PRODID:-//Squarespace Inc/Squarespace 6//v6//EN
BEGIN:VEVENT
UID:589bb07ca5790a358769d913@squarespace.com
DTSTAMP:20170209T003123Z
DTSTART:20170210T080000Z
DTEND:20170210T105900Z
SUMMARY:Ron Valente LIVE @ The Vic 
GEO:-41.274788;173.284126
LOCATION:The Vic Brewbar\, 281 Trafalgar Street\, Nelson\, Nelson\, 7010\, 
 New Zealand
END:VEVENT
END:VCALENDAR
