BEGIN:VCALENDAR
VERSION:2.0
PRODID:-//Squarespace Inc/Squarespace 6//v6//EN
BEGIN:VEVENT
UID:586eafb11e5b6c8dcf1008f8@squarespace.com
DTSTAMP:20170518T230634Z
DTSTART:20170420T090000Z
DTEND:20170420T115900Z
SUMMARY:Boogie Train LIVE @ The Vic
END:VEVENT
END:VCALENDAR
