BEGIN:VCALENDAR
VERSION:2.0
PRODID:-//Squarespace Inc/Squarespace 6//v6//EN
BEGIN:VEVENT
UID:587841ccdb29d641c194293b@squarespace.com
DTSTAMP:20170410T011544Z
DTSTART:20170428T090000Z
DTEND:20170428T115900Z
SUMMARY:Paul Madsen LIVE @ The Vic 
GEO:-41.274788;173.284126
LOCATION:The Vic Brewbar\, 281 Trafalgar Street\, Nelson\, Nelson\, 7010\, 
 New Zealand
END:VEVENT
END:VCALENDAR
