BEGIN:VCALENDAR
VERSION:2.0
PRODID:-//Squarespace Inc/Squarespace 6//v6//EN
BEGIN:VEVENT
UID:58489326bebafb997ee7957b@squarespace.com
DTSTAMP:20170615T011020Z
DTSTART:20170617T090000Z
DTEND:20170617T115900Z
SUMMARY:ZeeL LIVE - Saturday 9pm
GEO:-41.274788;173.284126
LOCATION:The Vic Brewbar\, 281 Trafalgar Street\, Nelson\, Nelson\, 7010\, 
 New Zealand
END:VEVENT
END:VCALENDAR
