BEGIN:VCALENDAR
VERSION:2.0
PRODID:-//Squarespace Inc/Squarespace 6//v6//EN
BEGIN:VEVENT
UID:58599dcce58c6290d96bd16e@squarespace.com
DTSTAMP:20170508T081712Z
DTSTART:20170603T090000Z
DTEND:20170603T115900Z
SUMMARY:Bragg Bro's LIVE from 9pm
GEO:-41.274788;173.284126
LOCATION:The Vic Brewbar\, 281 Trafalgar Street\, Nelson\, Nelson\, 7010\, 
 New Zealand
END:VEVENT
END:VCALENDAR
