BEGIN:VCALENDAR
VERSION:2.0
PRODID:-//Squarespace Inc/Squarespace 6//v6//EN
BEGIN:VEVENT
UID:5848964ed2b8572ad062da08@squarespace.com
DTSTAMP:20170508T090845Z
DTSTART:20170708T090000Z
DTEND:20170708T115900Z
SUMMARY:Ceol River LIVE @ The Vic
GEO:-41.274788;173.284126
LOCATION:The Vic Brewbar\, 281 Trafalgar Street\, Nelson\, Nelson\, 7010\, 
 New Zealand
END:VEVENT
END:VCALENDAR
