BEGIN:VCALENDAR
VERSION:2.0
PRODID:-//Squarespace Inc/Squarespace 6//v6//EN
BEGIN:VEVENT
UID:5818fc6837c5813ad8de9974@squarespace.com
DTSTAMP:20170226T225002Z
DTSTART:20170331T080000Z
DTEND:20170331T105900Z
SUMMARY:Kramit LIVE @ The Vic
GEO:-41.273343;173.283638
LOCATION:The Vic Brew Bar\, 218 Trafalgar Street\, Nelson\, Nelson\, 7010\, 
 New Zealand
END:VEVENT
END:VCALENDAR
