BEGIN:VCALENDAR
VERSION:2.0
PRODID:-//Squarespace Inc/Squarespace 6//v6//EN
BEGIN:VEVENT
UID:58111dd3d1758ebbde0b20ab@squarespace.com
DTSTAMP:20170508T090730Z
DTSTART:20170701T090000Z
DTEND:20170701T115900Z
SUMMARY:Fez live  Saturday 9pm
GEO:-41.274788;173.284126
LOCATION:The Vic Brew Bar\, 281 Trafalgar Street\, Nelson\, Nelson\, 7010\, 
 New Zealand
END:VEVENT
END:VCALENDAR
